BEGIN:VCALENDAR
VERSION:2.0
PRODID:-//CP Celestino Montoto - ECPv6.15.20//NONSGML v1.0//EN
CALSCALE:GREGORIAN
METHOD:PUBLISH
X-ORIGINAL-URL:https://cpcelestinomontoto.es
X-WR-CALDESC:Eventos para CP Celestino Montoto
REFRESH-INTERVAL;VALUE=DURATION:PT1H
X-Robots-Tag:noindex
X-PUBLISHED-TTL:PT1H
BEGIN:VTIMEZONE
TZID:Europe/Madrid
BEGIN:DAYLIGHT
TZOFFSETFROM:+0100
TZOFFSETTO:+0200
TZNAME:CEST
DTSTART:20220327T010000
END:DAYLIGHT
BEGIN:STANDARD
TZOFFSETFROM:+0200
TZOFFSETTO:+0100
TZNAME:CET
DTSTART:20221030T010000
END:STANDARD
BEGIN:DAYLIGHT
TZOFFSETFROM:+0100
TZOFFSETTO:+0200
TZNAME:CEST
DTSTART:20230326T010000
END:DAYLIGHT
BEGIN:STANDARD
TZOFFSETFROM:+0200
TZOFFSETTO:+0100
TZNAME:CET
DTSTART:20231029T010000
END:STANDARD
BEGIN:DAYLIGHT
TZOFFSETFROM:+0100
TZOFFSETTO:+0200
TZNAME:CEST
DTSTART:20240331T010000
END:DAYLIGHT
BEGIN:STANDARD
TZOFFSETFROM:+0200
TZOFFSETTO:+0100
TZNAME:CET
DTSTART:20241027T010000
END:STANDARD
END:VTIMEZONE
BEGIN:VEVENT
DTSTART;VALUE=DATE:20230502
DTEND;VALUE=DATE:20230505
DTSTAMP:20260426T062804
CREATED:20230412T133240Z
LAST-MODIFIED:20230412T150321Z
UID:4038-1682985600-1683244799@cpcelestinomontoto.es
SUMMARY:5º Week Camp
DESCRIPTION:Quintana del Cuera
URL:https://cpcelestinomontoto.es/event/5o-week-camp/
CATEGORIES:22-23,Actividades Extraescolares de Varios días
END:VEVENT
BEGIN:VEVENT
DTSTART;VALUE=DATE:20230504
DTEND;VALUE=DATE:20230505
DTSTAMP:20260426T062804
CREATED:20230412T133859Z
LAST-MODIFIED:20230412T150253Z
UID:4042-1683158400-1683244799@cpcelestinomontoto.es
SUMMARY:4º Tito Bustillo
DESCRIPTION:La mitad del alumnado
URL:https://cpcelestinomontoto.es/event/4o-tito-bustillo/
CATEGORIES:22-23,Actividades Extraescolares Lectivas
END:VEVENT
BEGIN:VEVENT
DTSTART;VALUE=DATE:20230505
DTEND;VALUE=DATE:20230506
DTSTAMP:20260426T062804
CREATED:20230412T134013Z
LAST-MODIFIED:20230412T150204Z
UID:4044-1683244800-1683331199@cpcelestinomontoto.es
SUMMARY:Actuación del GAME
DESCRIPTION:Todos los cursos
URL:https://cpcelestinomontoto.es/event/actuacion-del-game/
CATEGORIES:22-23,Actividades Generales de centro
END:VEVENT
BEGIN:VEVENT
DTSTART;VALUE=DATE:20230510
DTEND;VALUE=DATE:20230512
DTSTAMP:20260426T062804
CREATED:20230412T133341Z
LAST-MODIFIED:20230412T150157Z
UID:4040-1683676800-1683849599@cpcelestinomontoto.es
SUMMARY:3º Aulas de la Naturaleza
DESCRIPTION:Tineo y Luarca
URL:https://cpcelestinomontoto.es/event/3o-aulas-de-la-naturaleza/
CATEGORIES:22-23,Actividades Extraescolares de Varios días
END:VEVENT
BEGIN:VEVENT
DTSTART;VALUE=DATE:20230512
DTEND;VALUE=DATE:20230513
DTSTAMP:20260426T062804
CREATED:20230412T145914Z
LAST-MODIFIED:20230412T145914Z
UID:4048-1683849600-1683935999@cpcelestinomontoto.es
SUMMARY:2º Salida al Zoo Oviedo
DESCRIPTION:
URL:https://cpcelestinomontoto.es/event/2o-salida-al-zoo-oviedo/
CATEGORIES:22-23,Actividades Extraescolares Lectivas
END:VEVENT
BEGIN:VEVENT
DTSTART;VALUE=DATE:20230512
DTEND;VALUE=DATE:20230513
DTSTAMP:20260426T062804
CREATED:20230412T150041Z
LAST-MODIFIED:20230412T150041Z
UID:4050-1683849600-1683935999@cpcelestinomontoto.es
SUMMARY:4º Tito Bustillo
DESCRIPTION:Otra mitad del alumnado
URL:https://cpcelestinomontoto.es/event/4o-tito-bustillo-2/
CATEGORIES:22-23,Actividades Extraescolares Lectivas
END:VEVENT
BEGIN:VEVENT
DTSTART;VALUE=DATE:20230512
DTEND;VALUE=DATE:20230513
DTSTAMP:20260426T062804
CREATED:20230512T134205Z
LAST-MODIFIED:20230412T150822Z
UID:4046-1683849600-1683935999@cpcelestinomontoto.es
SUMMARY:1º Ecohuerto
DESCRIPTION:2º mitad del alumnado
URL:https://cpcelestinomontoto.es/event/1o-ecohuerto-2/
CATEGORIES:22-23,Actividades Extraescolares Lectivas
END:VEVENT
BEGIN:VEVENT
DTSTART;VALUE=DATE:20230526
DTEND;VALUE=DATE:20230527
DTSTAMP:20260426T062804
CREATED:20230403T120127Z
LAST-MODIFIED:20230412T150221Z
UID:4029-1685059200-1685145599@cpcelestinomontoto.es
SUMMARY:Carrera Solidaria 2023
DESCRIPTION:
URL:https://cpcelestinomontoto.es/event/carrera-solidaria-2023/
CATEGORIES:22-23,Actividades Generales de centro
END:VEVENT
END:VCALENDAR