BEGIN:VCALENDAR
VERSION:2.0
PRODID:-//CP Celestino Montoto - ECPv6.15.20//NONSGML v1.0//EN
CALSCALE:GREGORIAN
METHOD:PUBLISH
X-ORIGINAL-URL:https://cpcelestinomontoto.es
X-WR-CALDESC:Eventos para CP Celestino Montoto
REFRESH-INTERVAL;VALUE=DURATION:PT1H
X-Robots-Tag:noindex
X-PUBLISHED-TTL:PT1H
BEGIN:VTIMEZONE
TZID:Europe/Madrid
BEGIN:DAYLIGHT
TZOFFSETFROM:+0100
TZOFFSETTO:+0200
TZNAME:CEST
DTSTART:20220327T010000
END:DAYLIGHT
BEGIN:STANDARD
TZOFFSETFROM:+0200
TZOFFSETTO:+0100
TZNAME:CET
DTSTART:20221030T010000
END:STANDARD
BEGIN:DAYLIGHT
TZOFFSETFROM:+0100
TZOFFSETTO:+0200
TZNAME:CEST
DTSTART:20230326T010000
END:DAYLIGHT
BEGIN:STANDARD
TZOFFSETFROM:+0200
TZOFFSETTO:+0100
TZNAME:CET
DTSTART:20231029T010000
END:STANDARD
BEGIN:DAYLIGHT
TZOFFSETFROM:+0100
TZOFFSETTO:+0200
TZNAME:CEST
DTSTART:20240331T010000
END:DAYLIGHT
BEGIN:STANDARD
TZOFFSETFROM:+0200
TZOFFSETTO:+0100
TZNAME:CET
DTSTART:20241027T010000
END:STANDARD
END:VTIMEZONE
BEGIN:VEVENT
DTSTART;VALUE=DATE:20230607
DTEND;VALUE=DATE:20230610
DTSTAMP:20260426T045430
CREATED:20230412T151004Z
LAST-MODIFIED:20230412T151004Z
UID:4053-1686096000-1686355199@cpcelestinomontoto.es
SUMMARY:4º Week Camp
DESCRIPTION:
URL:https://cpcelestinomontoto.es/event/4o-week-camp/
CATEGORIES:22-23,Actividades Extraescolares de Varios días
END:VEVENT
BEGIN:VEVENT
DTSTART;VALUE=DATE:20230612
DTEND;VALUE=DATE:20230617
DTSTAMP:20260426T045430
CREATED:20230412T151131Z
LAST-MODIFIED:20230412T151131Z
UID:4055-1686528000-1686959999@cpcelestinomontoto.es
SUMMARY:6º Viaje de Estudios a Madrid
DESCRIPTION:
URL:https://cpcelestinomontoto.es/event/6o-viaje-de-estudios-a-madrid/
CATEGORIES:22-23,Actividades Extraescolares de Varios días
END:VEVENT
BEGIN:VEVENT
DTSTART;TZID=Europe/Madrid:20230616T080000
DTEND;TZID=Europe/Madrid:20230616T170000
DTSTAMP:20260426T045430
CREATED:20230412T151209Z
LAST-MODIFIED:20230412T151209Z
UID:4057-1686902400-1686934800@cpcelestinomontoto.es
SUMMARY:1º Jardín Botánico
DESCRIPTION:
URL:https://cpcelestinomontoto.es/event/1o-jardin-botanico/
CATEGORIES:22-23,Actividades Extraescolares Lectivas
END:VEVENT
BEGIN:VEVENT
DTSTART;VALUE=DATE:20230620
DTEND;VALUE=DATE:20230622
DTSTAMP:20260426T045430
CREATED:20230412T151327Z
LAST-MODIFIED:20230412T151327Z
UID:4059-1687219200-1687391999@cpcelestinomontoto.es
SUMMARY:Campeonato de Cementerio
DESCRIPTION:
URL:https://cpcelestinomontoto.es/event/campeonato-de-cementerio-2/
CATEGORIES:22-23,Actividades Generales de centro
END:VEVENT
BEGIN:VEVENT
DTSTART;VALUE=DATE:20230622
DTEND;VALUE=DATE:20230623
DTSTAMP:20260426T045430
CREATED:20230412T151429Z
LAST-MODIFIED:20230412T151429Z
UID:4061-1687392000-1687478399@cpcelestinomontoto.es
SUMMARY:Graduación Infantil
DESCRIPTION:
URL:https://cpcelestinomontoto.es/event/graduacion-infantil/
CATEGORIES:22-23,Actividades Generales de centro
END:VEVENT
BEGIN:VEVENT
DTSTART;TZID=Europe/Madrid:20230622T170000
DTEND;TZID=Europe/Madrid:20230622T183000
DTSTAMP:20260426T045430
CREATED:20230412T151553Z
LAST-MODIFIED:20230412T151553Z
UID:4063-1687453200-1687458600@cpcelestinomontoto.es
SUMMARY:Graduación 6º
DESCRIPTION:
URL:https://cpcelestinomontoto.es/event/graduacion-6o/
LOCATION:Auditorio Pola de Siero
CATEGORIES:22-23,Actividades Generales de centro
END:VEVENT
END:VCALENDAR