BEGIN:VCALENDAR
VERSION:2.0
PRODID:-//CP Celestino Montoto - ECPv6.15.20//NONSGML v1.0//EN
CALSCALE:GREGORIAN
METHOD:PUBLISH
X-WR-CALNAME:CP Celestino Montoto
X-ORIGINAL-URL:https://cpcelestinomontoto.es
X-WR-CALDESC:Eventos para CP Celestino Montoto
REFRESH-INTERVAL;VALUE=DURATION:PT1H
X-Robots-Tag:noindex
X-PUBLISHED-TTL:PT1H
BEGIN:VTIMEZONE
TZID:Europe/Madrid
BEGIN:DAYLIGHT
TZOFFSETFROM:+0100
TZOFFSETTO:+0200
TZNAME:CEST
DTSTART:20240331T010000
END:DAYLIGHT
BEGIN:STANDARD
TZOFFSETFROM:+0200
TZOFFSETTO:+0100
TZNAME:CET
DTSTART:20241027T010000
END:STANDARD
BEGIN:DAYLIGHT
TZOFFSETFROM:+0100
TZOFFSETTO:+0200
TZNAME:CEST
DTSTART:20250330T010000
END:DAYLIGHT
BEGIN:STANDARD
TZOFFSETFROM:+0200
TZOFFSETTO:+0100
TZNAME:CET
DTSTART:20251026T010000
END:STANDARD
BEGIN:DAYLIGHT
TZOFFSETFROM:+0100
TZOFFSETTO:+0200
TZNAME:CEST
DTSTART:20260329T010000
END:DAYLIGHT
BEGIN:STANDARD
TZOFFSETFROM:+0200
TZOFFSETTO:+0100
TZNAME:CET
DTSTART:20261025T010000
END:STANDARD
END:VTIMEZONE
BEGIN:VEVENT
DTSTART;TZID=Europe/Madrid:20251002T140000
DTEND;TZID=Europe/Madrid:20251002T150000
DTSTAMP:20260426T015713
CREATED:20250910T092031Z
LAST-MODIFIED:20250910T092031Z
UID:7745-1759413600-1759417200@cpcelestinomontoto.es
SUMMARY:Infantil-Reunión General de Familias
DESCRIPTION:
URL:https://cpcelestinomontoto.es/event/infantil-reunion-general-de-familias/
CATEGORIES:25-26
END:VEVENT
BEGIN:VEVENT
DTSTART;TZID=Europe/Madrid:20251009T140000
DTEND;TZID=Europe/Madrid:20251009T150000
DTSTAMP:20260426T015713
CREATED:20250910T170613Z
LAST-MODIFIED:20250910T170613Z
UID:7767-1760018400-1760022000@cpcelestinomontoto.es
SUMMARY:3ºPrimaria-Reunión General de Familias
DESCRIPTION:
URL:https://cpcelestinomontoto.es/event/3oprimaria-reunion-general-de-familias/
CATEGORIES:25-26
END:VEVENT
BEGIN:VEVENT
DTSTART;TZID=Europe/Madrid:20251016T140000
DTEND;TZID=Europe/Madrid:20251016T150000
DTSTAMP:20260426T015713
CREATED:20250910T170341Z
LAST-MODIFIED:20250910T170341Z
UID:7761-1760623200-1760626800@cpcelestinomontoto.es
SUMMARY:2ºPrimaria-Reunión General de Familias
DESCRIPTION:
URL:https://cpcelestinomontoto.es/event/2oprimaria-reunion-general-de-familias/
CATEGORIES:25-26
END:VEVENT
BEGIN:VEVENT
DTSTART;TZID=Europe/Madrid:20251023T140000
DTEND;TZID=Europe/Madrid:20251023T150000
DTSTAMP:20260426T015713
CREATED:20250910T170158Z
LAST-MODIFIED:20250910T170158Z
UID:7751-1761228000-1761231600@cpcelestinomontoto.es
SUMMARY:1ºPrimaria-Reunión General de Familias
DESCRIPTION:
URL:https://cpcelestinomontoto.es/event/1oprimaria-reunion-general-de-familias-3/
CATEGORIES:25-26
END:VEVENT
BEGIN:VEVENT
DTSTART;TZID=Europe/Madrid:20251030T090000
DTEND;TZID=Europe/Madrid:20251030T140000
DTSTAMP:20260426T015713
CREATED:20251023T111201Z
LAST-MODIFIED:20251023T111201Z
UID:7810-1761814800-1761832800@cpcelestinomontoto.es
SUMMARY:Teatro de títeres en asturiano
DESCRIPTION:«Azul y la revolución de los colores»
URL:https://cpcelestinomontoto.es/event/teatro-de-titeres-en-asturiano/
CATEGORIES:25-26,Actividades Extraescolares Lectivas
END:VEVENT
END:VCALENDAR