BEGIN:VCALENDAR
VERSION:2.0
PRODID:-//CP Celestino Montoto - ECPv6.15.20//NONSGML v1.0//EN
CALSCALE:GREGORIAN
METHOD:PUBLISH
X-ORIGINAL-URL:https://cpcelestinomontoto.es
X-WR-CALDESC:Eventos para CP Celestino Montoto
REFRESH-INTERVAL;VALUE=DURATION:PT1H
X-Robots-Tag:noindex
X-PUBLISHED-TTL:PT1H
BEGIN:VTIMEZONE
TZID:Europe/Madrid
BEGIN:DAYLIGHT
TZOFFSETFROM:+0100
TZOFFSETTO:+0200
TZNAME:CEST
DTSTART:20240331T010000
END:DAYLIGHT
BEGIN:STANDARD
TZOFFSETFROM:+0200
TZOFFSETTO:+0100
TZNAME:CET
DTSTART:20241027T010000
END:STANDARD
BEGIN:DAYLIGHT
TZOFFSETFROM:+0100
TZOFFSETTO:+0200
TZNAME:CEST
DTSTART:20250330T010000
END:DAYLIGHT
BEGIN:STANDARD
TZOFFSETFROM:+0200
TZOFFSETTO:+0100
TZNAME:CET
DTSTART:20251026T010000
END:STANDARD
BEGIN:DAYLIGHT
TZOFFSETFROM:+0100
TZOFFSETTO:+0200
TZNAME:CEST
DTSTART:20260329T010000
END:DAYLIGHT
BEGIN:STANDARD
TZOFFSETFROM:+0200
TZOFFSETTO:+0100
TZNAME:CET
DTSTART:20261025T010000
END:STANDARD
END:VTIMEZONE
BEGIN:VEVENT
DTSTART;TZID=Europe/Madrid:20251106T090000
DTEND;TZID=Europe/Madrid:20251106T140000
DTSTAMP:20260426T001914
CREATED:20251023T111501Z
LAST-MODIFIED:20251031T125018Z
UID:7816-1762419600-1762437600@cpcelestinomontoto.es
SUMMARY:Excursión 3º Primaria
DESCRIPTION:Visita a la granja de Los Caserinos
URL:https://cpcelestinomontoto.es/event/excursion-3o-primaria/
CATEGORIES:25-26,Actividades Extraescolares Lectivas
END:VEVENT
BEGIN:VEVENT
DTSTART;TZID=Europe/Madrid:20251107T090000
DTEND;TZID=Europe/Madrid:20251107T140000
DTSTAMP:20260426T001914
CREATED:20251023T111009Z
LAST-MODIFIED:20251023T111009Z
UID:7808-1762506000-1762524000@cpcelestinomontoto.es
SUMMARY:Amagüestu
DESCRIPTION:
URL:https://cpcelestinomontoto.es/event/amaguestu-5/
CATEGORIES:25-26,Actividades Generales de centro
END:VEVENT
BEGIN:VEVENT
DTSTART;TZID=Europe/Madrid:20251112T090000
DTEND;TZID=Europe/Madrid:20251112T140000
DTSTAMP:20260426T001914
CREATED:20251023T111251Z
LAST-MODIFIED:20251023T111251Z
UID:7812-1762938000-1762956000@cpcelestinomontoto.es
SUMMARY:Concierto en asturiano
DESCRIPTION:Pop piquiñín
URL:https://cpcelestinomontoto.es/event/concierto-en-asturiano/
CATEGORIES:25-26,Actividades Extraescolares Lectivas
END:VEVENT
BEGIN:VEVENT
DTSTART;TZID=Europe/Madrid:20251120T090000
DTEND;TZID=Europe/Madrid:20251120T140000
DTSTAMP:20260426T001914
CREATED:20251023T111414Z
LAST-MODIFIED:20251023T111414Z
UID:7814-1763629200-1763647200@cpcelestinomontoto.es
SUMMARY:Excursión 2º Primaria
DESCRIPTION:Visita al Museo Evaristo Valle (Gijón)
URL:https://cpcelestinomontoto.es/event/excursion-2o-primaria/
CATEGORIES:25-26,Actividades Extraescolares Lectivas
END:VEVENT
BEGIN:VEVENT
DTSTART;TZID=Europe/Madrid:20251120T170000
DTEND;TZID=Europe/Madrid:20251120T193000
DTSTAMP:20260426T001914
CREATED:20251118T124430Z
LAST-MODIFIED:20251118T124430Z
UID:7953-1763658000-1763667000@cpcelestinomontoto.es
SUMMARY:Jornadas contra el Acoso y Ciberacoso
DESCRIPTION:
URL:https://cpcelestinomontoto.es/event/jornadas-contra-el-acoso-y-ciberacoso/
LOCATION:Auditorio Pola de Siero
CATEGORIES:25-26
END:VEVENT
BEGIN:VEVENT
DTSTART;TZID=Europe/Madrid:20251128T090000
DTEND;TZID=Europe/Madrid:20251128T140000
DTSTAMP:20260426T001914
CREATED:20251023T111637Z
LAST-MODIFIED:20251111T095224Z
UID:7818-1764320400-1764338400@cpcelestinomontoto.es
SUMMARY:Cross Escolar
DESCRIPTION:
URL:https://cpcelestinomontoto.es/event/cross-escolar/
CATEGORIES:25-26
END:VEVENT
END:VCALENDAR