BEGIN:VCALENDAR
VERSION:2.0
PRODID:-//CP Celestino Montoto - ECPv6.15.20//NONSGML v1.0//EN
CALSCALE:GREGORIAN
METHOD:PUBLISH
X-ORIGINAL-URL:https://cpcelestinomontoto.es
X-WR-CALDESC:Eventos para CP Celestino Montoto
REFRESH-INTERVAL;VALUE=DURATION:PT1H
X-Robots-Tag:noindex
X-PUBLISHED-TTL:PT1H
BEGIN:VTIMEZONE
TZID:Europe/Madrid
BEGIN:DAYLIGHT
TZOFFSETFROM:+0100
TZOFFSETTO:+0200
TZNAME:CEST
DTSTART:20240331T010000
END:DAYLIGHT
BEGIN:STANDARD
TZOFFSETFROM:+0200
TZOFFSETTO:+0100
TZNAME:CET
DTSTART:20241027T010000
END:STANDARD
BEGIN:DAYLIGHT
TZOFFSETFROM:+0100
TZOFFSETTO:+0200
TZNAME:CEST
DTSTART:20250330T010000
END:DAYLIGHT
BEGIN:STANDARD
TZOFFSETFROM:+0200
TZOFFSETTO:+0100
TZNAME:CET
DTSTART:20251026T010000
END:STANDARD
BEGIN:DAYLIGHT
TZOFFSETFROM:+0100
TZOFFSETTO:+0200
TZNAME:CEST
DTSTART:20260329T010000
END:DAYLIGHT
BEGIN:STANDARD
TZOFFSETFROM:+0200
TZOFFSETTO:+0100
TZNAME:CET
DTSTART:20261025T010000
END:STANDARD
END:VTIMEZONE
BEGIN:VEVENT
DTSTART;TZID=Europe/Madrid:20251201T090000
DTEND;TZID=Europe/Madrid:20251201T140000
DTSTAMP:20260425T224419
CREATED:20251105T113824Z
LAST-MODIFIED:20251024T103959Z
UID:7821-1764579600-1764597600@cpcelestinomontoto.es
SUMMARY:Infantil -  Teatro La Laboral
DESCRIPTION:Obra teatral «Lío en la granja»
URL:https://cpcelestinomontoto.es/event/infantil-teatro-la-laboral/
CATEGORIES:25-26,Actividades Extraescolares Lectivas
END:VEVENT
BEGIN:VEVENT
DTSTART;TZID=Europe/Madrid:20251203T090000
DTEND;TZID=Europe/Madrid:20251203T140000
DTSTAMP:20260425T224419
CREATED:20251202T085657Z
LAST-MODIFIED:20251202T085657Z
UID:7957-1764752400-1764770400@cpcelestinomontoto.es
SUMMARY:6ºPrimaria-Coro ERA
DESCRIPTION:Visita al ERA del alumnado de 6º con la actividada de Coro Escolar.
URL:https://cpcelestinomontoto.es/event/6oprimaria-coro-era/
CATEGORIES:25-26,Actividades Lectivas
END:VEVENT
BEGIN:VEVENT
DTSTART;TZID=Europe/Madrid:20251205T090000
DTEND;TZID=Europe/Madrid:20251205T140000
DTSTAMP:20260425T224419
CREATED:20251202T085810Z
LAST-MODIFIED:20251202T085810Z
UID:7959-1764925200-1764943200@cpcelestinomontoto.es
SUMMARY:5ºE. Primaria- Charla Medioambiental
DESCRIPTION:Charla «Mitos y leyendas sobre el cambio climático»
URL:https://cpcelestinomontoto.es/event/5oe-primaria-charla-medioambiental/
CATEGORIES:25-26,Actividades Lectivas
END:VEVENT
BEGIN:VEVENT
DTSTART;TZID=Europe/Madrid:20251212T090000
DTEND;TZID=Europe/Madrid:20251212T140000
DTSTAMP:20260425T224419
CREATED:20251202T085955Z
LAST-MODIFIED:20251202T085955Z
UID:7961-1765530000-1765548000@cpcelestinomontoto.es
SUMMARY:1º Primaria-Excursión 1er trimestre
DESCRIPTION:Los Caserinos
URL:https://cpcelestinomontoto.es/event/1o-primaria-excursion-1er-trimestre/
CATEGORIES:25-26,Actividades Extraescolares Lectivas
END:VEVENT
BEGIN:VEVENT
DTSTART;TZID=Europe/Madrid:20251217T090000
DTEND;TZID=Europe/Madrid:20251217T140000
DTSTAMP:20260425T224419
CREATED:20251202T090103Z
LAST-MODIFIED:20251202T090103Z
UID:7963-1765962000-1765980000@cpcelestinomontoto.es
SUMMARY:2º Primaria-Actividad intergeneracional
DESCRIPTION:Visita a las Residencias de ancianos de Pola. «Cantamos villancicos»
URL:https://cpcelestinomontoto.es/event/2o-primaria-actividad-intergeneracional/
CATEGORIES:25-26,Actividades Extraescolares Lectivas
END:VEVENT
BEGIN:VEVENT
DTSTART;TZID=Europe/Madrid:20251218T090000
DTEND;TZID=Europe/Madrid:20251218T140000
DTSTAMP:20260425T224419
CREATED:20251202T090149Z
LAST-MODIFIED:20251202T090149Z
UID:7965-1766048400-1766066400@cpcelestinomontoto.es
SUMMARY:Infantil- Actividad intergeneracional.
DESCRIPTION:Entrega de postales en el ERA.
URL:https://cpcelestinomontoto.es/event/infantil-actividad-intergeneracional/
CATEGORIES:25-26,Actividades Extraescolares Lectivas
END:VEVENT
BEGIN:VEVENT
DTSTART;TZID=Europe/Madrid:20251219T090000
DTEND;TZID=Europe/Madrid:20251219T140000
DTSTAMP:20260425T224419
CREATED:20251202T090226Z
LAST-MODIFIED:20251202T090226Z
UID:7967-1766134800-1766152800@cpcelestinomontoto.es
SUMMARY:Visita principe Aliatar
DESCRIPTION:
URL:https://cpcelestinomontoto.es/event/visita-principe-aliatar/
CATEGORIES:25-26,Actividades Generales de centro
END:VEVENT
END:VCALENDAR