BEGIN:VCALENDAR
VERSION:2.0
PRODID:-//CP Celestino Montoto - ECPv6.15.20//NONSGML v1.0//EN
CALSCALE:GREGORIAN
METHOD:PUBLISH
X-ORIGINAL-URL:https://cpcelestinomontoto.es
X-WR-CALDESC:Eventos para CP Celestino Montoto
REFRESH-INTERVAL;VALUE=DURATION:PT1H
X-Robots-Tag:noindex
X-PUBLISHED-TTL:PT1H
BEGIN:VTIMEZONE
TZID:Europe/Madrid
BEGIN:DAYLIGHT
TZOFFSETFROM:+0100
TZOFFSETTO:+0200
TZNAME:CEST
DTSTART:20250330T010000
END:DAYLIGHT
BEGIN:STANDARD
TZOFFSETFROM:+0200
TZOFFSETTO:+0100
TZNAME:CET
DTSTART:20251026T010000
END:STANDARD
BEGIN:DAYLIGHT
TZOFFSETFROM:+0100
TZOFFSETTO:+0200
TZNAME:CEST
DTSTART:20260329T010000
END:DAYLIGHT
BEGIN:STANDARD
TZOFFSETFROM:+0200
TZOFFSETTO:+0100
TZNAME:CET
DTSTART:20261025T010000
END:STANDARD
BEGIN:DAYLIGHT
TZOFFSETFROM:+0100
TZOFFSETTO:+0200
TZNAME:CEST
DTSTART:20270328T010000
END:DAYLIGHT
BEGIN:STANDARD
TZOFFSETFROM:+0200
TZOFFSETTO:+0100
TZNAME:CET
DTSTART:20271031T010000
END:STANDARD
END:VTIMEZONE
BEGIN:VEVENT
DTSTART;TZID=Europe/Madrid:20260420T090000
DTEND;TZID=Europe/Madrid:20260420T140000
DTSTAMP:20260421T104950
CREATED:20260407T111848Z
LAST-MODIFIED:20260407T111848Z
UID:8449-1776675600-1776693600@cpcelestinomontoto.es
SUMMARY:3º Primaria-Lecturas compartidas
DESCRIPTION:Jornada de lecturas compartidas en el ERA.
URL:https://cpcelestinomontoto.es/event/3o-primaria-lecturas-compartidas/
CATEGORIES:25-26,Actividades Lectivas
END:VEVENT
BEGIN:VEVENT
DTSTART;TZID=Europe/Madrid:20260416T140000
DTEND;TZID=Europe/Madrid:20260416T150000
DTSTAMP:20260421T104950
CREATED:20260310T180534Z
LAST-MODIFIED:20251024T103331Z
UID:7765-1776348000-1776351600@cpcelestinomontoto.es
SUMMARY:2ºPrimaria-Reunión General de Familias
DESCRIPTION:
URL:https://cpcelestinomontoto.es/event/2oprimaria-reunion-general-de-familias-3/
CATEGORIES:25-26
END:VEVENT
BEGIN:VEVENT
DTSTART;TZID=Europe/Madrid:20260416T090000
DTEND;TZID=Europe/Madrid:20260416T140000
DTSTAMP:20260421T104950
CREATED:20260407T111435Z
LAST-MODIFIED:20260407T111435Z
UID:7849-1776330000-1776348000@cpcelestinomontoto.es
SUMMARY:4º Primaria - Mapeo de Siero
DESCRIPTION:Actividad desarrollada con el IES
URL:https://cpcelestinomontoto.es/event/4o-primaria-mapeo-de-siero/
CATEGORIES:25-26,Actividades Lectivas
END:VEVENT
BEGIN:VEVENT
DTSTART;TZID=Europe/Madrid:20260415T140000
DTEND;TZID=Europe/Madrid:20260415T150000
DTSTAMP:20260421T104950
CREATED:20260310T181149Z
LAST-MODIFIED:20251024T103404Z
UID:7783-1776261600-1776265200@cpcelestinomontoto.es
SUMMARY:5ºPrimaria-Reunión General de Familias
DESCRIPTION:
URL:https://cpcelestinomontoto.es/event/5oprimaria-reunion-general-de-familias-3/
CATEGORIES:25-26
END:VEVENT
BEGIN:VEVENT
DTSTART;TZID=Europe/Madrid:20260414T160000
DTEND;TZID=Europe/Madrid:20260414T170000
DTSTAMP:20260421T104950
CREATED:20260220T131721Z
LAST-MODIFIED:20260220T131721Z
UID:8231-1776182400-1776186000@cpcelestinomontoto.es
SUMMARY:Jornada de Puertas Abiertas 3años
DESCRIPTION:
URL:https://cpcelestinomontoto.es/event/jornada-de-puertas-abiertas-3anos/
END:VEVENT
BEGIN:VEVENT
DTSTART;TZID=Europe/Madrid:20260410T090000
DTEND;TZID=Europe/Madrid:20260410T140000
DTSTAMP:20260421T104950
CREATED:20260407T111329Z
LAST-MODIFIED:20260407T111329Z
UID:7847-1775811600-1775829600@cpcelestinomontoto.es
SUMMARY:4º Primaria - Escuela de Chefs Alimerka
DESCRIPTION:
URL:https://cpcelestinomontoto.es/event/4o-primaria-escuela-de-chefs-alimerka/
CATEGORIES:25-26,Actividades Lectivas
END:VEVENT
BEGIN:VEVENT
DTSTART;TZID=Europe/Madrid:20260327T090000
DTEND;TZID=Europe/Madrid:20260327T140000
DTSTAMP:20260421T104950
CREATED:20260224T114503Z
LAST-MODIFIED:20251024T104558Z
UID:7829-1774602000-1774620000@cpcelestinomontoto.es
SUMMARY:1º Primaria -  Asturcilla
DESCRIPTION:Excursión 2º trimestre
URL:https://cpcelestinomontoto.es/event/1o-primaria-asturcilla/
CATEGORIES:25-26,Actividades Extraescolares Lectivas
END:VEVENT
BEGIN:VEVENT
DTSTART;TZID=Europe/Madrid:20260326T090000
DTEND;TZID=Europe/Madrid:20260326T140000
DTSTAMP:20260421T104950
CREATED:20260304T083221Z
LAST-MODIFIED:20260304T083221Z
UID:8267-1774515600-1774533600@cpcelestinomontoto.es
SUMMARY:4º\, 5º y 6º - Teatro en Inglés
DESCRIPTION:Obra de teatro en lengua inglesa.
URL:https://cpcelestinomontoto.es/event/4o-5o-y-6o-teatro-en-ingles/
CATEGORIES:25-26,Actividades Lectivas
END:VEVENT
BEGIN:VEVENT
DTSTART;TZID=Europe/Madrid:20260326T090000
DTEND;TZID=Europe/Madrid:20260326T140000
DTSTAMP:20260421T104950
CREATED:20260224T114716Z
LAST-MODIFIED:20251024T104817Z
UID:7833-1774515600-1774533600@cpcelestinomontoto.es
SUMMARY:2º Primaria - Centro zoológico de Tuernes
DESCRIPTION:Excursión 2º trimestre
URL:https://cpcelestinomontoto.es/event/2o-primaria-centro-zoologico-de-tuernes/
CATEGORIES:25-26,Actividades Extraescolares Lectivas
END:VEVENT
BEGIN:VEVENT
DTSTART;TZID=Europe/Madrid:20260317T090000
DTEND;TZID=Europe/Madrid:20260318T140000
DTSTAMP:20260421T104950
CREATED:20260304T083041Z
LAST-MODIFIED:20260304T083041Z
UID:8265-1773738000-1773842400@cpcelestinomontoto.es
SUMMARY:Infantil\, 1º\, 2º y 3º - Storytelling
DESCRIPTION:Cuentacuentos en inglés
URL:https://cpcelestinomontoto.es/event/infantil-1o-2o-y-3o-storytelling/
CATEGORIES:25-26,Actividades Lectivas
END:VEVENT
BEGIN:VEVENT
DTSTART;TZID=Europe/Madrid:20260313T090000
DTEND;TZID=Europe/Madrid:20260313T140000
DTSTAMP:20260421T104950
CREATED:20260224T115125Z
LAST-MODIFIED:20260304T082756Z
UID:7841-1773392400-1773410400@cpcelestinomontoto.es
SUMMARY:Infantil - Aulas del Futuro
DESCRIPTION:Excursión 2º trimestre
URL:https://cpcelestinomontoto.es/event/3o-primaria-zoo-el-bosque/
CATEGORIES:25-26,Actividades Extraescolares Lectivas
END:VEVENT
BEGIN:VEVENT
DTSTART;TZID=Europe/Madrid:20260312T090000
DTEND;TZID=Europe/Madrid:20260312T140000
DTSTAMP:20260421T104950
CREATED:20260124T114934Z
LAST-MODIFIED:20251024T105039Z
UID:7837-1773306000-1773324000@cpcelestinomontoto.es
SUMMARY:3º Primaria - Museo Marítimo de Luarca
DESCRIPTION:Excursión 2º trimestre
URL:https://cpcelestinomontoto.es/event/3o-primaria-museo-maritimo-de-luarca/
CATEGORIES:25-26,Actividades Extraescolares Lectivas
END:VEVENT
BEGIN:VEVENT
DTSTART;TZID=Europe/Madrid:20260306T090000
DTEND;TZID=Europe/Madrid:20260306T140000
DTSTAMP:20260421T104950
CREATED:20260304T082624Z
LAST-MODIFIED:20260304T082914Z
UID:8260-1772787600-1772805600@cpcelestinomontoto.es
SUMMARY:4ºPrimaria-Mujeres con historia
DESCRIPTION:Actividad intergeneracional
URL:https://cpcelestinomontoto.es/event/4oep-mujeres-con-historia/
CATEGORIES:25-26,Actividades Lectivas
END:VEVENT
BEGIN:VEVENT
DTSTART;TZID=Europe/Madrid:20260304T160000
DTEND;TZID=Europe/Madrid:20260304T170000
DTSTAMP:20260421T104950
CREATED:20260220T131641Z
LAST-MODIFIED:20260220T131641Z
UID:8229-1772640000-1772643600@cpcelestinomontoto.es
SUMMARY:Jornada de Puertas Abiertas 1º Primaria
DESCRIPTION:
URL:https://cpcelestinomontoto.es/event/jornada-de-puertas-abiertas-1o-primaria/
CATEGORIES:25-26
END:VEVENT
BEGIN:VEVENT
DTSTART;TZID=Europe/Madrid:20260226T090000
DTEND;TZID=Europe/Madrid:20260226T140000
DTSTAMP:20260421T104950
CREATED:20260203T195200Z
LAST-MODIFIED:20260203T195200Z
UID:8188-1772096400-1772114400@cpcelestinomontoto.es
SUMMARY:6º-Los Caserinos
DESCRIPTION:Excursión del 2º trimestre
URL:https://cpcelestinomontoto.es/event/6o-los-caserinos/
CATEGORIES:25-26,Actividades Extraescolares Lectivas
END:VEVENT
BEGIN:VEVENT
DTSTART;TZID=Europe/Madrid:20260225T090000
DTEND;TZID=Europe/Madrid:20260225T140000
DTSTAMP:20260421T104950
CREATED:20260203T195055Z
LAST-MODIFIED:20260203T195055Z
UID:8186-1772010000-1772028000@cpcelestinomontoto.es
SUMMARY:6º-IES Nora
DESCRIPTION:Asistencia a la jornada de puertas abiertas del IES Nora
URL:https://cpcelestinomontoto.es/event/6o-ies-nora/
CATEGORIES:25-26,Actividades Lectivas
END:VEVENT
BEGIN:VEVENT
DTSTART;TZID=Europe/Madrid:20260224T090000
DTEND;TZID=Europe/Madrid:20260224T140000
DTSTAMP:20260421T104950
CREATED:20260203T195002Z
LAST-MODIFIED:20260203T195002Z
UID:8184-1771923600-1771941600@cpcelestinomontoto.es
SUMMARY:6º-IES Villanueva
DESCRIPTION:Asistencia a la jornada de puertas abiertas del IES Villanueva
URL:https://cpcelestinomontoto.es/event/6o-ies-villanueva/
CATEGORIES:25-26,Actividades Lectivas
END:VEVENT
BEGIN:VEVENT
DTSTART;TZID=Europe/Madrid:20260223T080000
DTEND;TZID=Europe/Madrid:20260223T140000
DTSTAMP:20260421T104950
CREATED:20260123T121126Z
LAST-MODIFIED:20260203T194832Z
UID:8137-1771833600-1771855200@cpcelestinomontoto.es
SUMMARY:4ºPrimaria-FETEN Teatro Jovellanos
DESCRIPTION:Asistencia al Festival de Artes Escénicas de Gijón en el Teatro Jovellanos
URL:https://cpcelestinomontoto.es/event/4o-primaria-tent-teatro-jovellanos/
CATEGORIES:25-26,Actividades Extraescolares Lectivas
END:VEVENT
BEGIN:VEVENT
DTSTART;TZID=Europe/Madrid:20260219T140000
DTEND;TZID=Europe/Madrid:20260219T150000
DTSTAMP:20260421T104950
CREATED:20260110T180108Z
LAST-MODIFIED:20251024T103448Z
UID:7753-1771509600-1771513200@cpcelestinomontoto.es
SUMMARY:1ºPrimaria-Reunión General de Familias
DESCRIPTION:
URL:https://cpcelestinomontoto.es/event/1oprimaria-reunion-general-de-familias-2/
CATEGORIES:25-26
END:VEVENT
BEGIN:VEVENT
DTSTART;TZID=Europe/Madrid:20260212T090000
DTEND;TZID=Europe/Madrid:20260212T140000
DTSTAMP:20260421T104950
CREATED:20260203T194705Z
LAST-MODIFIED:20260203T194705Z
UID:8181-1770886800-1770904800@cpcelestinomontoto.es
SUMMARY:Antroxu
DESCRIPTION:Celebramos el carnaval vestidos de época.
URL:https://cpcelestinomontoto.es/event/antroxu/
CATEGORIES:25-26,Actividades Generales de centro
END:VEVENT
BEGIN:VEVENT
DTSTART;TZID=Europe/Madrid:20260211T090000
DTEND;TZID=Europe/Madrid:20260211T140000
DTSTAMP:20260421T104950
CREATED:20260203T194540Z
LAST-MODIFIED:20260203T194540Z
UID:8179-1770800400-1770818400@cpcelestinomontoto.es
SUMMARY:5º-Visita al ERA
DESCRIPTION:Celebramos las Comadres en el ERA.
URL:https://cpcelestinomontoto.es/event/5o-visita-al-era/
CATEGORIES:25-26,Actividades Lectivas
END:VEVENT
BEGIN:VEVENT
DTSTART;TZID=Europe/Madrid:20260210T123000
DTEND;TZID=Europe/Madrid:20260210T140000
DTSTAMP:20260421T104950
CREATED:20260203T194444Z
LAST-MODIFIED:20260203T194444Z
UID:8177-1770726600-1770732000@cpcelestinomontoto.es
SUMMARY:3º y 4ºEP-Cuenta cuentos
DESCRIPTION:David Acera nos acompaña con una actividad de cuenta cuentos.
URL:https://cpcelestinomontoto.es/event/3o-y-4oep-cuenta-cuentos/
CATEGORIES:25-26,Actividades Lectivas
END:VEVENT
BEGIN:VEVENT
DTSTART;TZID=Europe/Madrid:20260205T140000
DTEND;TZID=Europe/Madrid:20260205T150000
DTSTAMP:20260421T104950
CREATED:20260108T180651Z
LAST-MODIFIED:20251024T103519Z
UID:7769-1770300000-1770303600@cpcelestinomontoto.es
SUMMARY:3ºPrimaria-Reunión General de Familias
DESCRIPTION:
URL:https://cpcelestinomontoto.es/event/3oprimaria-reunion-general-de-familias-2/
CATEGORIES:25-26
END:VEVENT
BEGIN:VEVENT
DTSTART;TZID=Europe/Madrid:20260205T090000
DTEND;TZID=Europe/Madrid:20260205T140000
DTSTAMP:20260421T104950
CREATED:20260203T194310Z
LAST-MODIFIED:20260203T194310Z
UID:8175-1770282000-1770300000@cpcelestinomontoto.es
SUMMARY:1º a 5ºEP-Oceavida
DESCRIPTION:«Peques por el mar»: charla sobre la biodiversidad de los océanos y sus principales amenazas. Pequeños actos de ayuda.
URL:https://cpcelestinomontoto.es/event/1o-a-5oep-oceavida/
CATEGORIES:25-26,Actividades Lectivas
END:VEVENT
BEGIN:VEVENT
DTSTART;TZID=Europe/Madrid:20260202T140000
DTEND;TZID=Europe/Madrid:20260202T150000
DTSTAMP:20260421T104950
CREATED:20260108T180906Z
LAST-MODIFIED:20251024T103552Z
UID:7775-1770040800-1770044400@cpcelestinomontoto.es
SUMMARY:4ºPrimaria-Reunión General de Familias
DESCRIPTION:
URL:https://cpcelestinomontoto.es/event/4oprimaria-reunion-general-de-familias-2/
CATEGORIES:25-26
END:VEVENT
BEGIN:VEVENT
DTSTART;TZID=Europe/Madrid:20260130T090000
DTEND;TZID=Europe/Madrid:20260130T140000
DTSTAMP:20260421T104950
CREATED:20260114T085700Z
LAST-MODIFIED:20260114T085723Z
UID:8104-1769763600-1769781600@cpcelestinomontoto.es
SUMMARY:Día de la Paz
DESCRIPTION:
URL:https://cpcelestinomontoto.es/event/dia-de-la-paz/
CATEGORIES:25-26,Actividades Generales de centro
END:VEVENT
BEGIN:VEVENT
DTSTART;TZID=Europe/Madrid:20260129T140000
DTEND;TZID=Europe/Madrid:20260129T150000
DTSTAMP:20260421T104950
CREATED:20251210T180132Z
LAST-MODIFIED:20251024T103623Z
UID:7747-1769695200-1769698800@cpcelestinomontoto.es
SUMMARY:Infantil-Reunión General de Familias
DESCRIPTION:
URL:https://cpcelestinomontoto.es/event/infantil-reunion-general-de-familias-3/
CATEGORIES:25-26
END:VEVENT
BEGIN:VEVENT
DTSTART;TZID=Europe/Madrid:20260122T140000
DTEND;TZID=Europe/Madrid:20260122T150000
DTSTAMP:20260421T104950
CREATED:20251210T180447Z
LAST-MODIFIED:20251024T103654Z
UID:7763-1769090400-1769094000@cpcelestinomontoto.es
SUMMARY:2ºPrimaria-Reunión General de Familias
DESCRIPTION:
URL:https://cpcelestinomontoto.es/event/2oprimaria-reunion-general-de-familias-2/
CATEGORIES:25-26
END:VEVENT
BEGIN:VEVENT
DTSTART;TZID=Europe/Madrid:20260120T140000
DTEND;TZID=Europe/Madrid:20260120T150000
DTSTAMP:20260421T104950
CREATED:20251210T181113Z
LAST-MODIFIED:20251024T103720Z
UID:7781-1768917600-1768921200@cpcelestinomontoto.es
SUMMARY:5ºPrimaria-Reunión General de Familias
DESCRIPTION:
URL:https://cpcelestinomontoto.es/event/5oprimaria-reunion-general-de-familias-2/
CATEGORIES:25-26
END:VEVENT
BEGIN:VEVENT
DTSTART;TZID=Europe/Madrid:20260115T140000
DTEND;TZID=Europe/Madrid:20260115T150000
DTSTAMP:20260421T104950
CREATED:20251210T181313Z
LAST-MODIFIED:20251024T103745Z
UID:7785-1768485600-1768489200@cpcelestinomontoto.es
SUMMARY:6ºPrimaria-Reunión General de Familias
DESCRIPTION:
URL:https://cpcelestinomontoto.es/event/6oprimaria-reunion-general-de-familias-2/
CATEGORIES:25-26
END:VEVENT
END:VCALENDAR