BEGIN:VCALENDAR
VERSION:2.0
PRODID:-//CP Celestino Montoto - ECPv6.15.20//NONSGML v1.0//EN
CALSCALE:GREGORIAN
METHOD:PUBLISH
X-ORIGINAL-URL:https://cpcelestinomontoto.es
X-WR-CALDESC:Eventos para CP Celestino Montoto
REFRESH-INTERVAL;VALUE=DURATION:PT1H
X-Robots-Tag:noindex
X-PUBLISHED-TTL:PT1H
BEGIN:VTIMEZONE
TZID:Europe/Madrid
BEGIN:DAYLIGHT
TZOFFSETFROM:+0100
TZOFFSETTO:+0200
TZNAME:CEST
DTSTART:20220327T010000
END:DAYLIGHT
BEGIN:STANDARD
TZOFFSETFROM:+0200
TZOFFSETTO:+0100
TZNAME:CET
DTSTART:20221030T010000
END:STANDARD
BEGIN:DAYLIGHT
TZOFFSETFROM:+0100
TZOFFSETTO:+0200
TZNAME:CEST
DTSTART:20230326T010000
END:DAYLIGHT
BEGIN:STANDARD
TZOFFSETFROM:+0200
TZOFFSETTO:+0100
TZNAME:CET
DTSTART:20231029T010000
END:STANDARD
BEGIN:DAYLIGHT
TZOFFSETFROM:+0100
TZOFFSETTO:+0200
TZNAME:CEST
DTSTART:20240331T010000
END:DAYLIGHT
BEGIN:STANDARD
TZOFFSETFROM:+0200
TZOFFSETTO:+0100
TZNAME:CET
DTSTART:20241027T010000
END:STANDARD
BEGIN:DAYLIGHT
TZOFFSETFROM:+0100
TZOFFSETTO:+0200
TZNAME:CEST
DTSTART:20250330T010000
END:DAYLIGHT
BEGIN:STANDARD
TZOFFSETFROM:+0200
TZOFFSETTO:+0100
TZNAME:CET
DTSTART:20251026T010000
END:STANDARD
END:VTIMEZONE
BEGIN:VEVENT
DTSTART;TZID=Europe/Madrid:20240926T130000
DTEND;TZID=Europe/Madrid:20240926T140000
DTSTAMP:20260423T183033
CREATED:20240920T112410Z
LAST-MODIFIED:20240920T112410Z
UID:6353-1727355600-1727359200@cpcelestinomontoto.es
SUMMARY:Reunión General Familias 6º
DESCRIPTION:
URL:https://cpcelestinomontoto.es/event/reunion-general-familias-6o/
LOCATION:CP Celestino Montoto\, C/ Párroco Fernández Pedrera s/n\, Pola de Siero\, Asturias\, 33510\, España
CATEGORIES:24-25,Actividades Generales de centro
END:VEVENT
BEGIN:VEVENT
DTSTART;TZID=Europe/Madrid:20240925T130000
DTEND;TZID=Europe/Madrid:20240925T160000
DTSTAMP:20260423T183033
CREATED:20240920T112155Z
LAST-MODIFIED:20240920T112225Z
UID:6351-1727269200-1727280000@cpcelestinomontoto.es
SUMMARY:Reunión General Familias 5º
DESCRIPTION:
URL:https://cpcelestinomontoto.es/event/reunion-general-familias-5o/
LOCATION:CP Celestino Montoto\, C/ Párroco Fernández Pedrera s/n\, Pola de Siero\, Asturias\, 33510\, España
CATEGORIES:24-25,Actividades Generales de centro
END:VEVENT
BEGIN:VEVENT
DTSTART;TZID=Europe/Madrid:20240620T170000
DTEND;TZID=Europe/Madrid:20240620T180000
DTSTAMP:20260423T183033
CREATED:20240603T092113Z
LAST-MODIFIED:20240603T092113Z
UID:5702-1718902800-1718906400@cpcelestinomontoto.es
SUMMARY:Graduación 6º
DESCRIPTION:
URL:https://cpcelestinomontoto.es/event/graduacion-6o-2/
LOCATION:Auditorio Pola de Siero
CATEGORIES:23-24,Actividades Generales de centro
END:VEVENT
BEGIN:VEVENT
DTSTART;TZID=Europe/Madrid:20240620T100000
DTEND;TZID=Europe/Madrid:20240620T110000
DTSTAMP:20260423T183033
CREATED:20240603T091940Z
LAST-MODIFIED:20240603T092001Z
UID:5700-1718877600-1718881200@cpcelestinomontoto.es
SUMMARY:Graduación 5 años
DESCRIPTION:
URL:https://cpcelestinomontoto.es/event/graduacion-5-anos/
LOCATION:CP Celestino Montoto\, C/ Párroco Fernández Pedrera s/n\, Pola de Siero\, Asturias\, 33510\, España
CATEGORIES:23-24,Actividades Generales de centro
END:VEVENT
BEGIN:VEVENT
DTSTART;VALUE=DATE:20240620
DTEND;VALUE=DATE:20240621
DTSTAMP:20260423T183033
CREATED:20240612T223559Z
LAST-MODIFIED:20240612T223559Z
UID:5895-1718841600-1718927999@cpcelestinomontoto.es
SUMMARY:IV Olimpiada Ortográfica
DESCRIPTION:
URL:https://cpcelestinomontoto.es/event/iv-olimpiada-ortografica/
LOCATION:CP Celestino Montoto\, C/ Párroco Fernández Pedrera s/n\, Pola de Siero\, Asturias\, 33510\, España
CATEGORIES:23-24,Actividades Generales de centro
END:VEVENT
BEGIN:VEVENT
DTSTART;VALUE=DATE:20240614
DTEND;VALUE=DATE:20240620
DTSTAMP:20260423T183033
CREATED:20240603T092551Z
LAST-MODIFIED:20240612T223714Z
UID:5706-1718323200-1718841599@cpcelestinomontoto.es
SUMMARY:Campeonato de Cementerio
DESCRIPTION:
URL:https://cpcelestinomontoto.es/event/campeonato-de-cementerio-3/
LOCATION:CP Celestino Montoto\, C/ Párroco Fernández Pedrera s/n\, Pola de Siero\, Asturias\, 33510\, España
CATEGORIES:23-24,Actividades Generales de centro
END:VEVENT
BEGIN:VEVENT
DTSTART;VALUE=DATE:20240604
DTEND;VALUE=DATE:20240608
DTSTAMP:20260423T183033
CREATED:20240603T091502Z
LAST-MODIFIED:20240603T091502Z
UID:5698-1717459200-1717804799@cpcelestinomontoto.es
SUMMARY:6º Viaje de Estudios
DESCRIPTION:
URL:https://cpcelestinomontoto.es/event/6o-viaje-de-estudios/
LOCATION:Madrid
CATEGORIES:23-24,Actividades Extraescolares de Varios días
END:VEVENT
BEGIN:VEVENT
DTSTART;VALUE=DATE:20240531
DTEND;VALUE=DATE:20240601
DTSTAMP:20260423T183033
CREATED:20240519T211020Z
LAST-MODIFIED:20240519T211020Z
UID:5581-1717113600-1717199999@cpcelestinomontoto.es
SUMMARY:5º Salida al Botánico
DESCRIPTION:
URL:https://cpcelestinomontoto.es/event/5o-salida-al-botanico/
LOCATION:Botánico Gijón
CATEGORIES:23-24,Actividades Extraescolares Lectivas
END:VEVENT
BEGIN:VEVENT
DTSTART;VALUE=DATE:20240530
DTEND;VALUE=DATE:20240531
DTSTAMP:20260423T183033
CREATED:20240519T210422Z
LAST-MODIFIED:20240519T210422Z
UID:5569-1717027200-1717113599@cpcelestinomontoto.es
SUMMARY:Carrera Solidaria
DESCRIPTION:
URL:https://cpcelestinomontoto.es/event/carrera-solidaria/
LOCATION:Polideportivo Nuevo
CATEGORIES:23-24,Actividades Generales de centro
ORGANIZER;CN="CP Celestino Montoto":MAILTO:celestin@educastur.org
END:VEVENT
BEGIN:VEVENT
DTSTART;VALUE=DATE:20240524
DTEND;VALUE=DATE:20240525
DTSTAMP:20260423T183033
CREATED:20240519T205949Z
LAST-MODIFIED:20240519T205949Z
UID:5567-1716508800-1716595199@cpcelestinomontoto.es
SUMMARY:Salida 3º Muja
DESCRIPTION:
URL:https://cpcelestinomontoto.es/event/salida-3o-muja/
CATEGORIES:23-24,Actividades Extraescolares Lectivas
END:VEVENT
BEGIN:VEVENT
DTSTART;VALUE=DATE:20240521
DTEND;VALUE=DATE:20240524
DTSTAMP:20260423T183033
CREATED:20240519T205826Z
LAST-MODIFIED:20240519T205826Z
UID:5565-1716249600-1716508799@cpcelestinomontoto.es
SUMMARY:Weekcamp 5º
DESCRIPTION:
URL:https://cpcelestinomontoto.es/event/weekcamp-5o/
CATEGORIES:23-24,Actividades Extraescolares de Varios días
END:VEVENT
BEGIN:VEVENT
DTSTART;VALUE=DATE:20240516
DTEND;VALUE=DATE:20240517
DTSTAMP:20260423T183033
CREATED:20240404T121809Z
LAST-MODIFIED:20240404T121809Z
UID:5521-1715817600-1715903999@cpcelestinomontoto.es
SUMMARY:6º Concierto de la Ospa
DESCRIPTION:
URL:https://cpcelestinomontoto.es/event/6o-concierto-de-la-ospa/
CATEGORIES:23-24,Actividades Extraescolares Lectivas
END:VEVENT
BEGIN:VEVENT
DTSTART;VALUE=DATE:20240516
DTEND;VALUE=DATE:20240517
DTSTAMP:20260423T183033
CREATED:20240404T121702Z
LAST-MODIFIED:20240404T121702Z
UID:5518-1715817600-1715903999@cpcelestinomontoto.es
SUMMARY:4º Parque de la Prehistoria
DESCRIPTION:
URL:https://cpcelestinomontoto.es/event/4o-parque-de-la-prehistoria/
LOCATION:Teverga
CATEGORIES:23-24,Actividades Extraescolares Lectivas
ORGANIZER;CN="CP Celestino Montoto":MAILTO:celestin@educastur.org
END:VEVENT
BEGIN:VEVENT
DTSTART;TZID=Europe/Madrid:20240509T140000
DTEND;TZID=Europe/Madrid:20240509T150000
DTSTAMP:20260423T183033
CREATED:20240417T135652Z
LAST-MODIFIED:20240417T135652Z
UID:5528-1715263200-1715266800@cpcelestinomontoto.es
SUMMARY:Reunión familias 5º
DESCRIPTION:
URL:https://cpcelestinomontoto.es/event/reunion-familias-5o/
LOCATION:CP Celestino Montoto\, C/ Párroco Fernández Pedrera s/n\, Pola de Siero\, Asturias\, 33510\, España
CATEGORIES:23-24
END:VEVENT
BEGIN:VEVENT
DTSTART;VALUE=DATE:20240509
DTEND;VALUE=DATE:20240510
DTSTAMP:20260423T183033
CREATED:20240404T121506Z
LAST-MODIFIED:20240404T121506Z
UID:5515-1715212800-1715299199@cpcelestinomontoto.es
SUMMARY:2º salida al Acuario
DESCRIPTION:
URL:https://cpcelestinomontoto.es/event/2o-salida-al-acuario/
LOCATION:Acuario Gijón
ORGANIZER;CN="CP Celestino Montoto":MAILTO:celestin@educastur.org
END:VEVENT
BEGIN:VEVENT
DTSTART;VALUE=DATE:20240506
DTEND;VALUE=DATE:20240509
DTSTAMP:20260423T183033
CREATED:20240404T121248Z
LAST-MODIFIED:20240404T121313Z
UID:5513-1714953600-1715212799@cpcelestinomontoto.es
SUMMARY:Wek Camp 4º
DESCRIPTION:
URL:https://cpcelestinomontoto.es/event/wek-camp-4o/
LOCATION:CP Celestino Montoto\, C/ Párroco Fernández Pedrera s/n\, Pola de Siero\, Asturias\, 33510\, España
CATEGORIES:23-24,Actividades Extraescolares de Varios días
ORGANIZER;CN="CP Celestino Montoto":MAILTO:celestin@educastur.org
END:VEVENT
BEGIN:VEVENT
DTSTART;TZID=Europe/Madrid:20240430T140000
DTEND;TZID=Europe/Madrid:20240430T150000
DTSTAMP:20260423T183033
CREATED:20240404T120118Z
LAST-MODIFIED:20240404T120118Z
UID:5506-1714485600-1714489200@cpcelestinomontoto.es
SUMMARY:Reunión familias 4º
DESCRIPTION:
URL:https://cpcelestinomontoto.es/event/reunion-familias-4o/
LOCATION:CP Celestino Montoto\, C/ Párroco Fernández Pedrera s/n\, Pola de Siero\, Asturias\, 33510\, España
ORGANIZER;CN="CP Celestino Montoto":MAILTO:celestin@educastur.org
END:VEVENT
BEGIN:VEVENT
DTSTART;TZID=Europe/Madrid:20240425T140000
DTEND;TZID=Europe/Madrid:20240425T150000
DTSTAMP:20260423T183033
CREATED:20240404T120305Z
LAST-MODIFIED:20240417T135532Z
UID:5509-1714053600-1714057200@cpcelestinomontoto.es
SUMMARY:Reunión familias 5 años
DESCRIPTION:
URL:https://cpcelestinomontoto.es/event/reunion-familias-5o-y-5-anos/
LOCATION:CP Celestino Montoto\, C/ Párroco Fernández Pedrera s/n\, Pola de Siero\, Asturias\, 33510\, España
CATEGORIES:23-24
ORGANIZER;CN="CP Celestino Montoto":MAILTO:celestin@educastur.org
END:VEVENT
BEGIN:VEVENT
DTSTART;VALUE=DATE:20240423
DTEND;VALUE=DATE:20240427
DTSTAMP:20260423T183033
CREATED:20240417T140201Z
LAST-MODIFIED:20240417T140201Z
UID:5530-1713830400-1714175999@cpcelestinomontoto.es
SUMMARY:Semana del libro
DESCRIPTION:
URL:https://cpcelestinomontoto.es/event/semana-del-libro/
LOCATION:CP Celestino Montoto\, C/ Párroco Fernández Pedrera s/n\, Pola de Siero\, Asturias\, 33510\, España
CATEGORIES:23-24,Actividades Generales de centro
END:VEVENT
BEGIN:VEVENT
DTSTART;TZID=Europe/Madrid:20240418T140000
DTEND;TZID=Europe/Madrid:20240418T150000
DTSTAMP:20260423T183033
CREATED:20240404T115945Z
LAST-MODIFIED:20240404T115945Z
UID:5502-1713448800-1713452400@cpcelestinomontoto.es
SUMMARY:Reunión familias 2º
DESCRIPTION:
URL:https://cpcelestinomontoto.es/event/reunion-familias-2o/
LOCATION:CP Celestino Montoto\, C/ Párroco Fernández Pedrera s/n\, Pola de Siero\, Asturias\, 33510\, España
ORGANIZER;CN="CP Celestino Montoto":MAILTO:celestin@educastur.org
END:VEVENT
BEGIN:VEVENT
DTSTART;TZID=Europe/Madrid:20240417T140000
DTEND;TZID=Europe/Madrid:20240417T150000
DTSTAMP:20260423T183033
CREATED:20240404T115824Z
LAST-MODIFIED:20240404T115824Z
UID:5500-1713362400-1713366000@cpcelestinomontoto.es
SUMMARY:Reunión familias 1º
DESCRIPTION:
URL:https://cpcelestinomontoto.es/event/reunion-familias-1o/
LOCATION:CP Celestino Montoto\, C/ Párroco Fernández Pedrera s/n\, Pola de Siero\, Asturias\, 33510\, España
ORGANIZER;CN="CP Celestino Montoto":MAILTO:celestin@educastur.org
END:VEVENT
BEGIN:VEVENT
DTSTART;VALUE=DATE:20240416
DTEND;VALUE=DATE:20240417
DTSTAMP:20260423T183033
CREATED:20240404T115435Z
LAST-MODIFIED:20240404T115435Z
UID:5498-1713225600-1713311999@cpcelestinomontoto.es
SUMMARY:1º Excursión Botánico
DESCRIPTION:
URL:https://cpcelestinomontoto.es/event/1o-excursion-botanico/
ORGANIZER;CN="CP Celestino Montoto":MAILTO:celestin@educastur.org
END:VEVENT
BEGIN:VEVENT
DTSTART;TZID=Europe/Madrid:20240411T140000
DTEND;TZID=Europe/Madrid:20240411T150000
DTSTAMP:20260423T183033
CREATED:20240404T120904Z
LAST-MODIFIED:20240404T120904Z
UID:5511-1712844000-1712847600@cpcelestinomontoto.es
SUMMARY:Reunión familias 6º
DESCRIPTION:
URL:https://cpcelestinomontoto.es/event/reunion-familias-6o/
LOCATION:CP Celestino Montoto\, C/ Párroco Fernández Pedrera s/n\, Pola de Siero\, Asturias\, 33510\, España
ORGANIZER;CN="CP Celestino Montoto":MAILTO:celestin@educastur.org
END:VEVENT
BEGIN:VEVENT
DTSTART;TZID=Europe/Madrid:20240410T140000
DTEND;TZID=Europe/Madrid:20240410T150000
DTSTAMP:20260423T183033
CREATED:20240404T120033Z
LAST-MODIFIED:20240404T120033Z
UID:5504-1712757600-1712761200@cpcelestinomontoto.es
SUMMARY:Reunión familias 3º
DESCRIPTION:
URL:https://cpcelestinomontoto.es/event/reunion-familias-3o/
LOCATION:CP Celestino Montoto\, C/ Párroco Fernández Pedrera s/n\, Pola de Siero\, Asturias\, 33510\, España
ORGANIZER;CN="CP Celestino Montoto":MAILTO:celestin@educastur.org
END:VEVENT
BEGIN:VEVENT
DTSTART;TZID=Europe/Madrid:20240305T160000
DTEND;TZID=Europe/Madrid:20240305T173000
DTSTAMP:20260423T183033
CREATED:20240303T203636Z
LAST-MODIFIED:20240303T204011Z
UID:5276-1709654400-1709659800@cpcelestinomontoto.es
SUMMARY:Jornada de puertas abiertas
DESCRIPTION:
URL:https://cpcelestinomontoto.es/event/jornada-de-puertas-abiertas-2/
LOCATION:CP Celestino Montoto\, C/ Párroco Fernández Pedrera s/n\, Pola de Siero\, Asturias\, 33510\, España
CATEGORIES:23-24,Actividades Generales de centro
ORGANIZER;CN="CP Celestino Montoto":MAILTO:celestin@educastur.org
END:VEVENT
BEGIN:VEVENT
DTSTART;VALUE=DATE:20240221
DTEND;VALUE=DATE:20240222
DTSTAMP:20260423T183033
CREATED:20240108T194843Z
LAST-MODIFIED:20240108T195110Z
UID:5143-1708473600-1708559999@cpcelestinomontoto.es
SUMMARY:1º al Muja
DESCRIPTION:
URL:https://cpcelestinomontoto.es/event/1o-al-muja/
CATEGORIES:23-24,Actividades Extraescolares Lectivas
END:VEVENT
BEGIN:VEVENT
DTSTART;VALUE=DATE:20240205
DTEND;VALUE=DATE:20240206
DTSTAMP:20260423T183033
CREATED:20240108T194739Z
LAST-MODIFIED:20240108T194739Z
UID:5141-1707091200-1707177599@cpcelestinomontoto.es
SUMMARY:Infantil Teatro en La Laboral
DESCRIPTION:
URL:https://cpcelestinomontoto.es/event/infantil-teatro-en-la-laboral/
CATEGORIES:23-24,Actividades Extraescolares Lectivas
END:VEVENT
BEGIN:VEVENT
DTSTART;VALUE=DATE:20240119
DTEND;VALUE=DATE:20240120
DTSTAMP:20260423T183033
CREATED:20240108T192011Z
LAST-MODIFIED:20240108T192011Z
UID:5133-1705622400-1705708799@cpcelestinomontoto.es
SUMMARY:Cross escolar en Nava
DESCRIPTION:
URL:https://cpcelestinomontoto.es/event/cross-escolar-en-nava/
CATEGORIES:23-24,Actividades Extraescolares Lectivas
END:VEVENT
BEGIN:VEVENT
DTSTART;VALUE=DATE:20240108
DTEND;VALUE=DATE:20240323
DTSTAMP:20260423T183033
CREATED:20240108T191828Z
LAST-MODIFIED:20240108T191828Z
UID:5131-1704672000-1711151999@cpcelestinomontoto.es
SUMMARY:2º Trimestre 23/24
DESCRIPTION:
URL:https://cpcelestinomontoto.es/event/2o-trimestre-23-24/
CATEGORIES:23-24
END:VEVENT
BEGIN:VEVENT
DTSTART;VALUE=DATE:20231110
DTEND;VALUE=DATE:20231111
DTSTAMP:20260423T183033
CREATED:20231102T161955Z
LAST-MODIFIED:20231102T161955Z
UID:4886-1699574400-1699660799@cpcelestinomontoto.es
SUMMARY:Amagüestu
DESCRIPTION:
URL:https://cpcelestinomontoto.es/event/amaguestu-2/
LOCATION:CP Celestino Montoto\, C/ Párroco Fernández Pedrera s/n\, Pola de Siero\, Asturias\, 33510\, España
CATEGORIES:23-24,Actividades Generales de centro
ORGANIZER;CN="CP Celestino Montoto":MAILTO:celestin@educastur.org
END:VEVENT
END:VCALENDAR